BEGIN:VCALENDAR
TZID:Europe/Rome
BEGIN:VEVENT
CLASS:PUBLIC
CREATED:20260421T112640
DESCRIPTION:<h3 id="corsi-di-pittura">Laboratorio di Fotografia</h3>\n<h4>Il corso</h4>\nIl corso si svolgerà il sabato mattina dalle 11:00 alle 13:00. Prevede 8 lezioni tra teoria in sede ed uscite a partire da metà maggio. Ogni partecipante dovrà disporre di una propria macchina fotografica compatta o anche di uno smartphone. Costo 80€/persona.\n<h4>Gli argomenti del corso</h4>\n<ul>\n 	<li>Fotografia e privacy: informarsi sui limiti imposti dalla legge sulla privacy, legge che tutela soprattutto i minori e il privato delle persone.</li>\n 	<li>Conoscere e scegliere le ottiche e gli strumenti più utili per praticare la fotografia sociale. Grandangolo, tele o zoom? Cavalletto mono-piede o tre-piede? Che tipo di macchina fotografica, reflex o compatta? Digitale o analogica?</li>\n 	<li>I filtri fotografici, con la presenza sul mercato di decine di programmi di photo editing, sono ancora utili ? Uno dei filtri non del tutto sostituibile è il polarizzatore, istruzioni per l'uso.</li>\n 	<li>L'importanza della luce nella fotografia, Illuminazione naturale o artificiale? L'uso del flash elettronico in studio e in strada.</li>\n 	<li>Il ritratto rientra a pieno titolo nella pratica della fotografia sociale. Utilizzato spesso nelle campagne di sensibilizzazione a favore dell'infanzia, della tutela della salute e dei valori solidali. Le ottiche e l'illuminazione.</li>\n 	<li>Che attrezzatura utilizzare per portare a termine un dossier fotografico in un contesto sociale difficile urbano o extraurbano. Su quale supporto di memoria è preferibile salvare il proprio lavoro?</li>\n</ul>\n<h4 id="con-giusy-ercole" class="has-medium-font-size">L'insegnante</h4>\nTony La Ruspa, alias Antonio Alfano, giornalista e documentarista visivo.
DTEND:20230630T130000Z
DTSTAMP:20260421T112640
DTSTART:20230515T110000
LAST-MODIFIED:20091109T101015
LOCATION:Domus 19, Piazza Sisto Riario Sforza, 154, , NA, 80139
SUMMARY;LANGUAGE=en-us:Laboratorio di fotografia
BEGIN:VALARM
TRIGGER:-PT1440M
ACTION:DISPLAY
DESCRIPTION:Reminder
END:VALARM
END:VEVENT
END:VCALENDAR
